Workbook

Sheet Scorecarding
A1: Supplier name | B1: Is it a material supplier? | C1: TSP Response | D1: Disclosure Platforms/ External Reporting (GRI, SASB, TCFD)
A2: ='2026 Track Status'!B2 -> S1 - Tamerin (Demo) | B2: =IF(ISNUMBER(SEARCH("material", '2026 Track Status'!C2)),"Yes", "No") -> Yes | C2: =IF(ISNUMBER(SEARCH("material", '2026 Track Status'!C2)), IF(OR('2026 Track Status'!E2="responded", '2026 Track Status'!E2="verified", '2026 Track Status'!E2="completed"), "COMPLETED", "NOT ADDRESSED"), IF(OR('2026 Track Status'!E2="responded", '2026 Track Status'!E2="verified", '2026 Track Status'!E2="completed"), "COMPLETED", "NOT REQUIRED")) -> COMPLETED | D2: =_xlfn.TEXTJOIN(",", 1, _xlfn._xlws.FILTER('2026 Track Answers & scores'!$D$2:$D$205, ('2026 Track Answers & scores'!$C$2:$C$205=A2) * ('2026 Track Answers & scores'!$E$2:$E$205="Yes/No") * ('2026 Track Answers & scores'!$G$2:$G$205=1.5))) -> Yes
A3: ='2026 Track Status'!B3 -> S2 - Erquin Asssociates (Demo) | B3: =IF(ISNUMBER(SEARCH("material", '2026 Track Status'!C3)),"Yes", "No") -> No | C3: =IF(ISNUMBER(SEARCH("material", '2026 Track Status'!C3)), IF(OR('2026 Track Status'!E3="responded", '2026 Track Status'!E3="verified", '2026 Track Status'!E3="completed"), "COMPLETED", "NOT ADDRESSED"), IF(OR('2026 Track Status'!E3="responded", '2026 Track Status'!E3="verified", '2026 Track Status'!E3="completed"), "COMPLETED", "NOT REQUIRED")) -> NOT REQUIRED | D3: =_xlfn.TEXTJOIN(",", 1, IFERROR(_xlfn._xlws.FILTER('2026 Track Answers & scores'!$D$2:$D$205, ('2026 Track Answers & scores'!$C$2:$C$205=A3) * ('2026 Track Answers & scores'!$E$2:$E$205="Yes/No") * ('2026 Track Answers & scores'!$G$2:$G$205=1.5)), "-")) -> -
A4: ='2026 Track Status'!B4 -> S3 - Smith & Hill (Demo) | B4: =IF(ISNUMBER(SEARCH("material", '2026 Track Status'!C4)),"Yes", "No") -> No | C4: =IF(ISNUMBER(SEARCH("material", '2026 Track Status'!C4)), IF(OR('2026 Track Status'!E4="responded", '2026 Track Status'!E4="verified", '2026 Track Status'!E4="completed"), "COMPLETED", "NOT ADDRESSED"), IF(OR('2026 Track Status'!E4="responded", '2026 Track Status'!E4="verified", '2026 Track Status'!E4="completed"), "COMPLETED", "NOT REQUIRED")) -> NOT REQUIRED | D4: =_xlfn.TEXTJOIN(",", 1, IFERROR(_xlfn._xlws.FILTER('2026 Track Answers & scores'!$D$2:$D$205, ('2026 Track Answers & scores'!$C$2:$C$205=A4) * ('2026 Track Answers & scores'!$E$2:$E$205="Yes/No") * ('2026 Track Answers & scores'!$G$2:$G$205=1.5)), "-")) -> -
A5: ='2026 Track Status'!B5 -> S4 - Hector Digging (Demo) | B5: =IF(ISNUMBER(SEARCH("material", '2026 Track Status'!C5)),"Yes", "No") -> No | C5: =IF(ISNUMBER(SEARCH("material", '2026 Track Status'!C5)), IF(OR('2026 Track Status'!E5="responded", '2026 Track Status'!E5="verified", '2026 Track Status'!E5="completed"), "COMPLETED", "NOT ADDRESSED"), IF(OR('2026 Track Status'!E5="responded", '2026 Track Status'!E5="verified", '2026 Track Status'!E5="completed"), "COMPLETED", "NOT REQUIRED")) -> NOT REQUIRED | D5: =_xlfn.TEXTJOIN(",", 1, IFERROR(_xlfn._xlws.FILTER('2026 Track Answers & scores'!$D$2:$D$205, ('2026 Track Answers & scores'!$C$2:$C$205=A5) * ('2026 Track Answers & scores'!$E$2:$E$205="Yes/No") * ('2026 Track Answers & scores'!$G$2:$G$205=1.5)), "-")) -> -
A6: ='2026 Track Status'!B6 -> S5 - Middletown Steel (Demo) | B6: =IF(ISNUMBER(SEARCH("material", '2026 Track Status'!C6)),"Yes", "No") -> No | C6: =IF(ISNUMBER(SEARCH("material", '2026 Track Status'!C6)), IF(OR('2026 Track Status'!E6="responded", '2026 Track Status'!E6="verified", '2026 Track Status'!E6="completed"), "COMPLETED", "NOT ADDRESSED"), IF(OR('2026 Track Status'!E6="responded", '2026 Track Status'!E6="verified", '2026 Track Status'!E6="completed"), "COMPLETED", "NOT REQUIRED")) -> NOT REQUIRED | D6: =_xlfn.TEXTJOIN(",", 1, IFERROR(_xlfn._xlws.FILTER('2026 Track Answers & scores'!$D$2:$D$205, ('2026 Track Answers & scores'!$C$2:$C$205=A6) * ('2026 Track Answers & scores'!$E$2:$E$205="Yes/No") * ('2026 Track Answers & scores'!$G$2:$G$205=1.5)), "-")) -> -
A7: ='2026 Track Status'!B7 -> S6 - Villafort Inc. (Demo) | B7: =IF(ISNUMBER(SEARCH("material", '2026 Track Status'!C7)),"Yes", "No") -> No | C7: =IF(ISNUMBER(SEARCH("material", '2026 Track Status'!C7)), IF(OR('2026 Track Status'!E7="responded", '2026 Track Status'!E7="verified", '2026 Track Status'!E7="completed"), "COMPLETED", "NOT ADDRESSED"), IF(OR('2026 Track Status'!E7="responded", '2026 Track Status'!E7="verified", '2026 Track Status'!E7="completed"), "COMPLETED", "NOT REQUIRED")) -> NOT REQUIRED | D7: =_xlfn.TEXTJOIN(",", 1, IFERROR(_xlfn._xlws.FILTER('2026 Track Answers & scores'!$D$2:$D$205, ('2026 Track Answers & scores'!$C$2:$C$205=A7) * ('2026 Track Answers & scores'!$E$2:$E$205="Yes/No") * ('2026 Track Answers & scores'!$G$2:$G$205=1.5)), "-")) -> -
A8: ='2026 Track Status'!B8 -> S7 - SteelWorks (Demo) | B8: =IF(ISNUMBER(SEARCH("material", '2026 Track Status'!C8)),"Yes", "No") -> No | C8: =IF(ISNUMBER(SEARCH("material", '2026 Track Status'!C8)), IF(OR('2026 Track Status'!E8="responded", '2026 Track Status'!E8="verified", '2026 Track Status'!E8="completed"), "COMPLETED", "NOT ADDRESSED"), IF(OR('2026 Track Status'!E8="responded", '2026 Track Status'!E8="verified", '2026 Track Status'!E8="completed"), "COMPLETED", "NOT REQUIRED")) -> NOT REQUIRED | D8: =_xlfn.TEXTJOIN(",", 1, IFERROR(_xlfn._xlws.FILTER('2026 Track Answers & scores'!$D$2:$D$205, ('2026 Track Answers & scores'!$C$2:$C$205=A8) * ('2026 Track Answers & scores'!$E$2:$E$205="Yes/No") * ('2026 Track Answers & scores'!$G$2:$G$205=1.5)), "-")) -> -
A9: ='2026 Track Status'!B9 -> S8 - Joe Trucks co. (Demo) | B9: =IF(ISNUMBER(SEARCH("material", '2026 Track Status'!C9)),"Yes", "No") -> No | C9: =IF(ISNUMBER(SEARCH("material", '2026 Track Status'!C9)), IF(OR('2026 Track Status'!E9="responded", '2026 Track Status'!E9="verified", '2026 Track Status'!E9="completed"), "COMPLETED", "NOT ADDRESSED"), IF(OR('2026 Track Status'!E9="responded", '2026 Track Status'!E9="verified", '2026 Track Status'!E9="completed"), "COMPLETED", "NOT REQUIRED")) -> NOT REQUIRED | D9: =_xlfn.TEXTJOIN(",", 1, IFERROR(_xlfn._xlws.FILTER('2026 Track Answers & scores'!$D$2:$D$205, ('2026 Track Answers & scores'!$C$2:$C$205=A9) * ('2026 Track Answers & scores'!$E$2:$E$205="Yes/No") * ('2026 Track Answers & scores'!$G$2:$G$205=1.5)), "-")) -> -
A10: ='2026 Track Status'!B10 -> S9 - Ball Construction (Demo) | B10: =IF(ISNUMBER(SEARCH("material", '2026 Track Status'!C10)),"Yes", "No") -> No | C10: =IF(ISNUMBER(SEARCH("material", '2026 Track Status'!C10)), IF(OR('2026 Track Status'!E10="responded", '2026 Track Status'!E10="verified", '2026 Track Status'!E10="completed"), "COMPLETED", "NOT ADDRESSED"), IF(OR('2026 Track Status'!E10="responded", '2026 Track Status'!E10="verified", '2026 Track Status'!E10="completed"), "COMPLETED", "NOT REQUIRED")) -> NOT REQUIRED | D10: =_xlfn.TEXTJOIN(",", 1, IFERROR(_xlfn._xlws.FILTER('2026 Track Answers & scores'!$D$2:$D$205, ('2026 Track Answers & scores'!$C$2:$C$205=A10) * ('2026 Track Answers & scores'!$E$2:$E$205="Yes/No") * ('2026 Track Answers & scores'!$G$2:$G$205=1.5)), "-")) -> -

Sheet 2026 Track Status
A1: Supplier No. | B1: Supplier Name | C1: Tags | D1: 2026 Score | E1: 2026 Status | F1: 2026 Completed at | G1: 2026 Score Range
A2: 23456 | B2: S1 - Tamerin (Demo) | C2: material | D2: 58 | E2: completed | F2: 2026-10-05 | G2: 41-60
A3: 12 | B3: S2 - Erquin Asssociates (Demo) | E3: no-data
A4: None | B4: S3 - Smith & Hill (Demo) | E4: no-data
A5: None | B5: S4 - Hector Digging (Demo) | E5: no-data
A6: None | B6: S5 - Middletown Steel (Demo) | E6: no-data
A7: None | B7: S6 - Villafort Inc. (Demo) | E7: no-data
A8: None | B8: S7 - SteelWorks (Demo) | E8: no-data
A9: None | B9: S8 - Joe Trucks co. (Demo) | E9: no-data
A10: None | B10: S9 - Ball Construction (Demo) | E10: no-data

Sheet 2026 Track Answers & scores
A1: Created at | B1: SupplierID | C1: Profile name | D1: Measured | E1: Unit | F1: Question title | G1: Question RefNum
A2: 2026-10-05T20:08:25.993220Z | B2: 23456 | C2: S1 - Tamerin (Demo) | D2: 58 | E2: Points | F2: Sustainability Core
A3: 2026-10-05T20:08:25.993220Z | B3: 23456 | C3: S1 - Tamerin (Demo) | D3: [42] Wholesale Trade | E3: North American Industry Classification System (NAICS) | F3: North American Industry Classification (NAICS) | G3: 0.1
A4: 2026-10-05T20:08:25.993220Z | B4: 23456 | C4: S1 - Tamerin (Demo) | D4: 0 | E4: Points | F4: North American Industry Classification (NAICS) | G4: 0.1
A5: 2026-10-05T20:08:25.993220Z | B5: 23456 | C5: S1 - Tamerin (Demo) | D5: No | E5: Yes/No | F5: Reporting Organization's Annual Gross Revenue | G5: 0.2
A6: 2026-10-05T20:08:25.993220Z | B6: 23456 | C6: S1 - Tamerin (Demo) | D6: 2 | E6: Millions US Dollars ($M) | F6: Reporting Organization's Annual Gross Revenue | G6: 0.2
A7: 2026-10-05T20:08:25.993220Z | B7: 23456 | C7: S1 - Tamerin (Demo) | D7: 0 | E7: Person | F7: Reporting organization's Full-time Employee Count | G7: 0.3
A8: 2026-10-05T20:08:25.993220Z | B8: 23456 | C8: S1 - Tamerin (Demo) | D8: 0 | E8: Points | F8: Reporting organization's Full-time Employee Count | G8: 0.3
A9: 2026-10-05T20:08:25.993220Z | B9: 23456 | C9: S1 - Tamerin (Demo) | D9: 1 | E9: Points | F9: Has your company established a documented sustainability strategy with defined performance targets? | G9: 1.1
A10: 2026-10-05T20:08:25.993220Z | B10: 23456 | C10: S1 - Tamerin (Demo) | D10: Yes | E10: Yes/No | F10: Has your company established a documented sustainability strategy with defined performance targets? | G10: 1.1
A11: 2026-10-05T20:08:25.993220Z | B11: 23456 | C11: S1 - Tamerin (Demo) | D11: 0 | E11: Points | F11: Does the strategy articulate a long-term vision for sustainable growth and operational impact? | G11: 1.1a
A12: 2026-10-05T20:08:25.993220Z | B12: 23456 | C12: S1 - Tamerin (Demo) | D12: Yes | E12: Yes/No | F12: Does the strategy articulate a long-term vision for sustainable growth and operational impact? | G12: 1.1a
A13: 2026-10-05T20:08:25.993220Z | B13: 23456 | C13: S1 - Tamerin (Demo) | D13: Yes | E13: Yes/No | F13: Does the strategy set clear, measurable, and time-bound objectives that track progress effectively? | G13: 1.1b
A14: 2026-10-05T20:08:25.993220Z | B14: 23456 | C14: S1 - Tamerin (Demo) | D14: 0 | E14: Points | F14: Does the strategy set clear, measurable, and time-bound objectives that track progress effectively? | G14: 1.1b
A15: 2026-10-05T20:08:25.993220Z | B15: 23456 | C15: S1 - Tamerin (Demo) | D15: Yes | E15: Yes/No | F15: Does the strategy allocate sufficient financial, human, and technological resources to support implementation? | G15: 1.1c
A16: 2026-10-05T20:08:25.993220Z | B16: 23456 | C16: S1 - Tamerin (Demo) | D16: 0 | E16: Points | F16: Does the strategy allocate sufficient financial, human, and technological resources to support implementation? | G16: 1.1c
A17: 2026-10-05T20:08:25.993220Z | B17: 23456 | C17: S1 - Tamerin (Demo) | D17: Yes | E17: Yes/No | F17: Does the strategy address material issues for the business? | G17: 1.1d
A18: 2026-10-05T20:08:25.993220Z | B18: 23456 | C18: S1 - Tamerin (Demo) | D18: 0 | E18: Points | F18: Does the strategy address material issues for the business? | G18: 1.1d
A19: 2026-10-05T20:08:25.993220Z | B19: 23456 | C19: S1 - Tamerin (Demo) | D19: 2 | E19: Points | F19: Has your company assigned formal responsibility for directing and overseeing sustainability performance to top/executive management? | G19: 1.2
A20: 2026-10-05T20:08:25.993220Z | B20: 23456 | C20: S1 - Tamerin (Demo) | D20: Yes | E20: Yes/No | F20: Has your company assigned formal responsibility for directing and overseeing sustainability performance to top/executive management? | G20: 1.2
A21: 2026-10-05T20:08:25.993220Z | B21: 23456 | C21: S1 - Tamerin (Demo) | D21: 1 | E21: Points | F21: Has your company designated a point person(s) responsible for implementing strategy and meeting targets? | G21: 1.3
A22: 2026-10-05T20:08:25.993220Z | B22: 23456 | C22: S1 - Tamerin (Demo) | D22: Yes | E22: Yes/No | F22: Has your company designated a point person(s) responsible for implementing strategy and meeting targets? | G22: 1.3
A23: 2026-10-05T20:08:25.993220Z | B23: 23456 | C23: S1 - Tamerin (Demo) | D23: Yes | E23: Yes/No | F23: Does your company report internally, including to top management, on strategy: key sustainability issues (revealed by materiality analysis), resiliency, risk, business continuity, progress toward goals, and plans/needs to address gaps towards your targets? | G23: 1.4
A24: 2026-10-05T20:08:25.993220Z | B24: 23456 | C24: S1 - Tamerin (Demo) | D24: 1 | E24: Points | F24: Does your company report internally, including to top management, on strategy: key sustainability issues (revealed by materiality analysis), resiliency, risk, business continuity, progress toward goals, and plans/needs to address gaps towards your targets? | G24: 1.4
A25: 2026-10-05T20:08:25.993220Z | B25: 23456 | C25: S1 - Tamerin (Demo) | D25: Yes | E25: Yes/No | F25: Does your company report externally on strategy: program elements, key environmental, social and governance issues, goals, challenges, resiliency, and continual improvement efforts in accordance with a reputable reporting standard (e.g. GRI, SASB, TCFD)? | G25: 1.5
A26: 2026-10-05T20:08:25.993220Z | B26: 23456 | C26: S1 - Tamerin (Demo) | D26: 1 | E26: Points | F26: Does your company report externally on strategy: program elements, key environmental, social and governance issues, goals, challenges, resiliency, and continual improvement efforts in accordance with a reputable reporting standard (e.g. GRI, SASB, TCFD)? | G26: 1.5
A27: 2026-10-05T20:08:25.993220Z | B27: 23456 | C27: S1 - Tamerin (Demo) | D27: 1 | E27: Points | F27: Does your company have environmental, social and governance strategy, reports, targets, and Key Performance Indicators (KPIs) periodically (every 5 years or sooner) validated by an independent third party? | G27: 1.6
A28: 2026-10-05T20:08:25.993220Z | B28: 23456 | C28: S1 - Tamerin (Demo) | D28: Yes | E28: Yes/No | F28: Does your company have environmental, social and governance strategy, reports, targets, and Key Performance Indicators (KPIs) periodically (every 5 years or sooner) validated by an independent third party? | G28: 1.6
A29: 2026-10-05T20:08:25.993220Z | B29: 23456 | C29: S1 - Tamerin (Demo) | D29: No | E29: Yes/No | F29: Has your company conducted a materiality assessment to identify and prioritize material sustainability impacts, issues and opportunities? | G29: 2.1
A30: 2026-10-05T20:08:25.993220Z | B30: 23456 | C30: S1 - Tamerin (Demo) | D30: 0 | E30: Points | F30: Has your company conducted a materiality assessment to identify and prioritize material sustainability impacts, issues and opportunities? | G30: 2.1
A31: 2026-10-05T20:08:25.993220Z | B31: 23456 | C31: S1 - Tamerin (Demo) | D31: Yes | E31: Yes/No | F31: Does your company have an Employee Code of Conduct in place? | G31: 3.1
A32: 2026-10-05T20:08:25.993220Z | B32: 23456 | C32: S1 - Tamerin (Demo) | D32: 1 | E32: Points | F32: Does your company have an Employee Code of Conduct in place? | G32: 3.1
A33: 2026-10-05T20:08:25.993220Z | B33: 23456 | C33: S1 - Tamerin (Demo) | D33: Yes | E33: Yes/No | F33: Does your company's Employee Code of Conduct contain sections pertinent to ... Child Labor? | G33: 3.1b
A34: 2026-10-05T20:08:25.993220Z | B34: 23456 | C34: S1 - Tamerin (Demo) | D34: 0 | E34: Points | F34: Does your company's Employee Code of Conduct contain sections pertinent to ... Child Labor? | G34: 3.1b
A35: 2026-10-05T20:08:25.993220Z | B35: 23456 | C35: S1 - Tamerin (Demo) | D35: 0 | E35: Points | F35: Does your company's Employee Code of Conduct contain sections pertinent to ... Forced Labor? | G35: 3.1c
A36: 2026-10-05T20:08:25.993220Z | B36: 23456 | C36: S1 - Tamerin (Demo) | D36: Yes | E36: Yes/No | F36: Does your company's Employee Code of Conduct contain sections pertinent to ... Forced Labor? | G36: 3.1c
A37: 2026-10-05T20:08:25.993220Z | B37: 23456 | C37: S1 - Tamerin (Demo) | D37: Yes | E37: Yes/No | F37: Does your company's Employee Code of Conduct contain sections pertinent to ... Corruption and bribery? | G37: 3.1d
A38: 2026-10-05T20:08:25.993220Z | B38: 23456 | C38: S1 - Tamerin (Demo) | D38: 0 | E38: Points | F38: Does your company's Employee Code of Conduct contain sections pertinent to ... Corruption and bribery? | G38: 3.1d
A39: 2026-10-05T20:08:25.993220Z | B39: 23456 | C39: S1 - Tamerin (Demo) | D39: 0 | E39: Points | F39: Does your company's Employee Code of Conduct contain sections pertinent to ... Discrimination and harassment? | G39: 3.1e
A40: 2026-10-05T20:08:25.993220Z | B40: 23456 | C40: S1 - Tamerin (Demo) | D40: Yes | E40: Yes/No | F40: Does your company's Employee Code of Conduct contain sections pertinent to ... Discrimination and harassment? | G40: 3.1e
A41: 2026-10-05T20:08:25.993220Z | B41: 23456 | C41: S1 - Tamerin (Demo) | D41: Yes | E41: Yes/No | F41: Does your company's Employee Code of Conduct contain sections pertinent to ... Working hours? | G41: 3.1f
A42: 2026-10-05T20:08:25.993220Z | B42: 23456 | C42: S1 - Tamerin (Demo) | D42: 0 | E42: Points | F42: Does your company's Employee Code of Conduct contain sections pertinent to ... Working hours? | G42: 3.1f
A43: 2026-10-05T20:08:25.993220Z | B43: 23456 | C43: S1 - Tamerin (Demo) | D43: Yes | E43: Yes/No | F43: Does your company's Employee Code of Conduct contain sections pertinent to ... Confidentiality of information? | G43: 3.1g
A44: 2026-10-05T20:08:25.993220Z | B44: 23456 | C44: S1 - Tamerin (Demo) | D44: 0 | E44: Points | F44: Does your company's Employee Code of Conduct contain sections pertinent to ... Confidentiality of information? | G44: 3.1g
A45: 2026-10-05T20:08:25.993220Z | B45: 23456 | C45: S1 - Tamerin (Demo) | D45: Yes | E45: Yes/No | F45: Does your company's Employee Code of Conduct contain sections pertinent to ... Conflicts of interest? | G45: 3.1h
A46: 2026-10-05T20:08:25.993220Z | B46: 23456 | C46: S1 - Tamerin (Demo) | D46: 0 | E46: Points | F46: Does your company's Employee Code of Conduct contain sections pertinent to ... Conflicts of interest? | G46: 3.1h
A47: 2026-10-05T20:08:25.993220Z | B47: 23456 | C47: S1 - Tamerin (Demo) | D47: Yes | E47: Yes/No | F47: Does your company's Employee Code of Conduct contain sections pertinent to ... Antitrust/anti-competitive practices? | G47: 3.1i
A48: 2026-10-05T20:08:25.993220Z | B48: 23456 | C48: S1 - Tamerin (Demo) | D48: 0 | E48: Points | F48: Does your company's Employee Code of Conduct contain sections pertinent to ... Antitrust/anti-competitive practices? | G48: 3.1i
A49: 2026-10-05T20:08:25.993220Z | B49: 23456 | C49: S1 - Tamerin (Demo) | D49: 0 | E49: Points | F49: Does your company's Employee Code of Conduct contain sections pertinent to ... Money-laundering and/or insider trading/dealing? | G49: 3.1j
A50: 2026-10-05T20:08:25.993220Z | B50: 23456 | C50: S1 - Tamerin (Demo) | D50: Yes | E50: Yes/No | F50: Does your company's Employee Code of Conduct contain sections pertinent to ... Money-laundering and/or insider trading/dealing? | G50: 3.1j
A51: 2026-10-05T20:08:25.993220Z | B51: 23456 | C51: S1 - Tamerin (Demo) | D51: Yes | E51: Yes/No | F51: Does your company's Employee Code of Conduct contain sections pertinent to ... Environment, health and safety? | G51: 3.1k
A52: 2026-10-05T20:08:25.993220Z | B52: 23456 | C52: S1 - Tamerin (Demo) | D52: 0 | E52: Points | F52: Does your company's Employee Code of Conduct contain sections pertinent to ... Environment, health and safety? | G52: 3.1k
A53: 2026-10-05T20:08:25.993220Z | B53: 23456 | C53: S1 - Tamerin (Demo) | D53: 0 | E53: Points | F53: Does your company's Employee Code of Conduct contain sections pertinent to ... Whistleblowing? | G53: 3.1l
A54: 2026-10-05T20:08:25.993220Z | B54: 23456 | C54: S1 - Tamerin (Demo) | D54: Yes | E54: Yes/No | F54: Does your company's Employee Code of Conduct contain sections pertinent to ... Whistleblowing? | G54: 3.1l
A55: 2026-10-05T20:08:25.993220Z | B55: 23456 | C55: S1 - Tamerin (Demo) | D55: 0 | E55: Points | F55: Does your company's Employee Code of Conduct contain sections pertinent to ... Collective bargaining, labor unions? | G55: 3.1m
A56: 2026-10-05T20:08:25.993220Z | B56: 23456 | C56: S1 - Tamerin (Demo) | D56: Yes | E56: Yes/No | F56: Does your company's Employee Code of Conduct contain sections pertinent to ... Collective bargaining, labor unions? | G56: 3.1m
A57: 2026-10-05T20:08:25.993220Z | B57: 23456 | C57: S1 - Tamerin (Demo) | D57: Yes | E57: Yes/No | F57: Does your company's Employee Code of Conduct contain sections pertinent to ... Workplace Representation? (This question is optional, not scored, and does not contribute to the overall TSP Score) | G57: 3.1n
A58: 2026-10-05T20:08:25.993220Z | B58: 23456 | C58: S1 - Tamerin (Demo) | D58: 1 | E58: Points | F58: Does your company have a Supplier Code of Conduct and/or Human Rights Policy in place? | G58: 4.1
A59: 2026-10-05T20:08:25.993220Z | B59: 23456 | C59: S1 - Tamerin (Demo) | D59: Yes | E59: Yes/No | F59: Does your company have a Supplier Code of Conduct and/or Human Rights Policy in place? | G59: 4.1
A60: 2026-10-05T20:08:25.993220Z | B60: 23456 | C60: S1 - Tamerin (Demo) | D60: 0 | E60: Points | F60: Does your company's Supplier Code of Conduct contain sections pertinent to ... Child Labor? | G60: 4.1d
A61: 2026-10-05T20:08:25.993220Z | B61: 23456 | C61: S1 - Tamerin (Demo) | D61: Yes | E61: Yes/No | F61: Does your company's Supplier Code of Conduct contain sections pertinent to ... Child Labor? | G61: 4.1d
A62: 2026-10-05T20:08:25.993220Z | B62: 23456 | C62: S1 - Tamerin (Demo) | D62: 0 | E62: Points | F62: Does your company's Supplier Code of Conduct contain sections pertinent to ... Forced Labor? | G62: 4.1e
A63: 2026-10-05T20:08:25.993220Z | B63: 23456 | C63: S1 - Tamerin (Demo) | D63: Yes | E63: Yes/No | F63: Does your company's Supplier Code of Conduct contain sections pertinent to ... Forced Labor? | G63: 4.1e
A64: 2026-10-05T20:08:25.993220Z | B64: 23456 | C64: S1 - Tamerin (Demo) | D64: 0 | E64: Points | F64: Does your company's Supplier Code of Conduct contain sections pertinent to ... Corruption and bribery? | G64: 4.1f
A65: 2026-10-05T20:08:25.993220Z | B65: 23456 | C65: S1 - Tamerin (Demo) | D65: Yes | E65: Yes/No | F65: Does your company's Supplier Code of Conduct contain sections pertinent to ... Corruption and bribery? | G65: 4.1f
A66: 2026-10-05T20:08:25.993220Z | B66: 23456 | C66: S1 - Tamerin (Demo) | D66: 0 | E66: Points | F66: Does your company's Supplier Code of Conduct contain sections pertinent to ... Discrimination and harassment? | G66: 4.1g
A67: 2026-10-05T20:08:25.993220Z | B67: 23456 | C67: S1 - Tamerin (Demo) | D67: Yes | E67: Yes/No | F67: Does your company's Supplier Code of Conduct contain sections pertinent to ... Discrimination and harassment? | G67: 4.1g
A68: 2026-10-05T20:08:25.993220Z | B68: 23456 | C68: S1 - Tamerin (Demo) | D68: 0 | E68: Points | F68: Does your company's Supplier Code of Conduct contain sections pertinent to ... Working hours? | G68: 4.1h
A69: 2026-10-05T20:08:25.993220Z | B69: 23456 | C69: S1 - Tamerin (Demo) | D69: Yes | E69: Yes/No | F69: Does your company's Supplier Code of Conduct contain sections pertinent to ... Working hours? | G69: 4.1h
A70: 2026-10-05T20:08:25.993220Z | B70: 23456 | C70: S1 - Tamerin (Demo) | D70: Yes | E70: Yes/No | F70: Does your company's Supplier Code of Conduct contain sections pertinent to ... Confidentiality of information? | G70: 4.1i
A71: 2026-10-05T20:08:25.993220Z | B71: 23456 | C71: S1 - Tamerin (Demo) | D71: 0 | E71: Points | F71: Does your company's Supplier Code of Conduct contain sections pertinent to ... Confidentiality of information? | G71: 4.1i
A72: 2026-10-05T20:08:25.993220Z | B72: 23456 | C72: S1 - Tamerin (Demo) | D72: Yes | E72: Yes/No | F72: Does your company's Supplier Code of Conduct contain sections pertinent to ... Conflicts of interest? | G72: 4.1j
A73: 2026-10-05T20:08:25.993220Z | B73: 23456 | C73: S1 - Tamerin (Demo) | D73: 0 | E73: Points | F73: Does your company's Supplier Code of Conduct contain sections pertinent to ... Conflicts of interest? | G73: 4.1j
A74: 2026-10-05T20:08:25.993220Z | B74: 23456 | C74: S1 - Tamerin (Demo) | D74: 0 | E74: Points | F74: Does your company's Supplier Code of Conduct contain sections pertinent to ... Antitrust/anti-competitive practices? | G74: 4.1k
A75: 2026-10-05T20:08:25.993220Z | B75: 23456 | C75: S1 - Tamerin (Demo) | D75: Yes | E75: Yes/No | F75: Does your company's Supplier Code of Conduct contain sections pertinent to ... Antitrust/anti-competitive practices? | G75: 4.1k
A76: 2026-10-05T20:08:25.993220Z | B76: 23456 | C76: S1 - Tamerin (Demo) | D76: Yes | E76: Yes/No | F76: Does your company's Supplier Code of Conduct contain sections pertinent to ... Money-laundering and/or insider trading/dealing? | G76: 4.1l
A77: 2026-10-05T20:08:25.993220Z | B77: 23456 | C77: S1 - Tamerin (Demo) | D77: 0 | E77: Points | F77: Does your company's Supplier Code of Conduct contain sections pertinent to ... Money-laundering and/or insider trading/dealing? | G77: 4.1l
A78: 2026-10-05T20:08:25.993220Z | B78: 23456 | C78: S1 - Tamerin (Demo) | D78: Yes | E78: Yes/No | F78: Does your company's Supplier Code of Conduct contain sections pertinent to ... Environment, health and safety? | G78: 4.1m
A79: 2026-10-05T20:08:25.993220Z | B79: 23456 | C79: S1 - Tamerin (Demo) | D79: 0 | E79: Points | F79: Does your company's Supplier Code of Conduct contain sections pertinent to ... Environment, health and safety? | G79: 4.1m
A80: 2026-10-05T20:08:25.993220Z | B80: 23456 | C80: S1 - Tamerin (Demo) | D80: 0 | E80: Points | F80: Does your company's Supplier Code of Conduct contain sections pertinent to ... Whistleblowing? | G80: 4.1n
A81: 2026-10-05T20:08:25.993220Z | B81: 23456 | C81: S1 - Tamerin (Demo) | D81: Yes | E81: Yes/No | F81: Does your company's Supplier Code of Conduct contain sections pertinent to ... Whistleblowing? | G81: 4.1n
A82: 2026-10-05T20:08:25.993220Z | B82: 23456 | C82: S1 - Tamerin (Demo) | D82: 0 | E82: Points | F82: Does your company's Supplier Code of Conduct contain sections pertinent to ... External stakeholder human rights? | G82: 4.1o
A83: 2026-10-05T20:08:25.993220Z | B83: 23456 | C83: S1 - Tamerin (Demo) | D83: Yes | E83: Yes/No | F83: Does your company's Supplier Code of Conduct contain sections pertinent to ... External stakeholder human rights? | G83: 4.1o
A84: 2026-10-05T20:08:25.993220Z | B84: 23456 | C84: S1 - Tamerin (Demo) | D84: Yes | E84: Yes/No | F84: Does your company's Supplier Code of Conduct contain sections pertinent to ... Workplace Representation? (This question is optional, not scored, and does not contribute to the overall TSP Score) | G84: 4.1p
A85: 2026-10-05T20:08:25.993220Z | B85: 23456 | C85: S1 - Tamerin (Demo) | D85: Yes | E85: Yes/No | F85: Are there any conflict minerals or additional minerals of concern (including: cobalt, tin, tantalum, tungsten, or gold) in the product(s) that your company manufactures, subcontracts, or sells? | G85: 5.1
A86: 2026-10-05T20:08:25.993220Z | B86: 23456 | C86: S1 - Tamerin (Demo) | D86: 0 | E86: Points | F86: Are there any conflict minerals or additional minerals of concern (including: cobalt, tin, tantalum, tungsten, or gold) in the product(s) that your company manufactures, subcontracts, or sells? | G86: 5.1
A87: 2026-10-05T20:08:25.993220Z | B87: 23456 | C87: S1 - Tamerin (Demo) | D87: 0 | E87: Points | F87: Does your company source any of the specific materials, minerals, or products from the related countries listed on the Department of Labor "List of Goods Produced by Child Labor or Forced Labor" (available here https://www.dol.gov/agencies/ilab/reports/child-labor/list-of-goods)? - If Yes, please describe how your company ensures that there is no Child Labor or Forced Labor in your supply chain in the comments. | G87: 5.2
A88: 2026-10-05T20:08:25.993220Z | B88: 23456 | C88: S1 - Tamerin (Demo) | D88: Yes | E88: Yes/No | F88: Does your company source any of the specific materials, minerals, or products from the related countries listed on the Department of Labor "List of Goods Produced by Child Labor or Forced Labor" (available here https://www.dol.gov/agencies/ilab/reports/child-labor/list-of-goods)? - If Yes, please describe how your company ensures that there is no Child Labor or Forced Labor in your supply chain in the comments. | G88: 5.2
A89: 2026-10-05T20:08:25.993220Z | B89: 23456 | C89: S1 - Tamerin (Demo) | D89: Yes | E89: Yes / No / Not Applicable | F89: Does your company have a policy related to sourcing conflict minerals? | G89: 5.3
A90: 2026-10-05T20:08:25.993220Z | B90: 23456 | C90: S1 - Tamerin (Demo) | D90: 1 | E90: Points | F90: Does your company have a policy related to sourcing conflict minerals? | G90: 5.3
A91: 2026-10-05T20:08:25.993220Z | B91: 23456 | C91: S1 - Tamerin (Demo) | D91: 1 | E91: Points | F91: Does your company have a policy related to sourcing materials from regions of concern? | G91: 5.4
A92: 2026-10-05T20:08:25.993220Z | B92: 23456 | C92: S1 - Tamerin (Demo) | D92: Not Applicable | E92: Yes / No / Not Applicable | F92: Does your company have a policy related to sourcing materials from regions of concern? | G92: 5.4
A93: 2026-10-05T20:08:25.993220Z | B93: 23456 | C93: S1 - Tamerin (Demo) | D93: 1 | E93: Points | F93: Has your company published a due diligence report on conflict minerals (including or not including cobalt)? | G93: 5.5
A94: 2026-10-05T20:08:25.993220Z | B94: 23456 | C94: S1 - Tamerin (Demo) | D94: Yes | E94: Yes / No / Not Applicable | F94: Has your company published a due diligence report on conflict minerals (including or not including cobalt)? | G94: 5.5
A95: 2026-10-05T20:08:25.993220Z | B95: 23456 | C95: S1 - Tamerin (Demo) | D95: Yes | E95: Yes/No | F95: Has your company implemented an environmental management system? | G95: 6.1
A96: 2026-10-05T20:08:25.993220Z | B96: 23456 | C96: S1 - Tamerin (Demo) | D96: 3 | E96: Points | F96: Has your company implemented an environmental management system? | G96: 6.1
A97: 2026-10-05T20:08:25.993220Z | B97: 23456 | C97: S1 - Tamerin (Demo) | D97: Yes | E97: Yes/No | F97: Is the system certified to a recognized local or international standard? | G97: 6.1a
A98: 2026-10-05T20:08:25.993220Z | B98: 23456 | C98: S1 - Tamerin (Demo) | D98: 1 | E98: Points | F98: Is the system certified to a recognized local or international standard? | G98: 6.1a
A99: 2026-10-05T20:08:25.993220Z | B99: 23456 | C99: S1 - Tamerin (Demo) | D99: 2 | E99: Points | F99: Is the system periodically (e.g. every 5 years) audited internally and by an independent third party? | G99: 6.1b
A100: 2026-10-05T20:08:25.993220Z | B100: 23456 | C100: S1 - Tamerin (Demo) | D100: Yes | E100: Yes/No | F100: Is the system periodically (e.g. every 5 years) audited internally and by an independent third party? | G100: 6.1b
...
