Workbook

Sheet Scorecarding
A1: Supplier name | B1: Is it a material supplier? | C1: TSP Response | D1: Disclosure Platforms/ External Reporting (GRI, SASB, TCFD)
A2: ='2026 Track Status'!B2 -> S1 - Tamerin (Demo) | B2: =IF(ISNUMBER(SEARCH("material", '2026 Track Status'!C2)),"Yes", "No") -> Yes | C2: =IF(ISNUMBER(SEARCH("material", '2026 Track Status'!C2)), IF(OR('2026 Track Status'!E2="responded", '2026 Track Status'!E2="verified", '2026 Track Status'!E2="completed"), "COMPLETED", "NOT ADDRESSED"), IF(OR('2026 Track Status'!E2="responded", '2026 Track Status'!E2="verified", '2026 Track Status'!E2="completed"), "COMPLETED", "NOT REQUIRED")) -> COMPLETED | D2: =_xlfn.TEXTJOIN(",", 1, _xlfn._xlws.FILTER('2026 Track Answers & scores'!$D$2:$D$205, ('2026 Track Answers & scores'!$C$2:$C$205=A2) * ('2026 Track Answers & scores'!$E$2:$E$205="Yes/No") * ('2026 Track Answers & scores'!$G$2:$G$205=1.5))) -> Yes
A3: ='2026 Track Status'!B3 -> S2 - Erquin Asssociates (Demo) | B3: =IF(ISNUMBER(SEARCH("material", '2026 Track Status'!C3)),"Yes", "No") -> No | C3: =IF(ISNUMBER(SEARCH("material", '2026 Track Status'!C3)), IF(OR('2026 Track Status'!E3="responded", '2026 Track Status'!E3="verified", '2026 Track Status'!E3="completed"), "COMPLETED", "NOT ADDRESSED"), IF(OR('2026 Track Status'!E3="responded", '2026 Track Status'!E3="verified", '2026 Track Status'!E3="completed"), "COMPLETED", "NOT REQUIRED")) -> NOT REQUIRED | D3: =_xlfn.TEXTJOIN(",", 1, IFERROR(_xlfn._xlws.FILTER('2026 Track Answers & scores'!$D$2:$D$205, ('2026 Track Answers & scores'!$C$2:$C$205=A3) * ('2026 Track Answers & scores'!$E$2:$E$205="Yes/No") * ('2026 Track Answers & scores'!$G$2:$G$205=1.5)), "-")) -> -
A4: ='2026 Track Status'!B4 -> S3 - Smith & Hill (Demo) | B4: =IF(ISNUMBER(SEARCH("material", '2026 Track Status'!C4)),"Yes", "No") -> No | C4: =IF(ISNUMBER(SEARCH("material", '2026 Track Status'!C4)), IF(OR('2026 Track Status'!E4="responded", '2026 Track Status'!E4="verified", '2026 Track Status'!E4="completed"), "COMPLETED", "NOT ADDRESSED"), IF(OR('2026 Track Status'!E4="responded", '2026 Track Status'!E4="verified", '2026 Track Status'!E4="completed"), "COMPLETED", "NOT REQUIRED")) -> NOT REQUIRED | D4: =_xlfn.TEXTJOIN(",", 1, IFERROR(_xlfn._xlws.FILTER('2026 Track Answers & scores'!$D$2:$D$205, ('2026 Track Answers & scores'!$C$2:$C$205=A4) * ('2026 Track Answers & scores'!$E$2:$E$205="Yes/No") * ('2026 Track Answers & scores'!$G$2:$G$205=1.5)), "-")) -> -
A5: ='2026 Track Status'!B5 -> S4 - Hector Digging (Demo) | B5: =IF(ISNUMBER(SEARCH("material", '2026 Track Status'!C5)),"Yes", "No") -> No | C5: =IF(ISNUMBER(SEARCH("material", '2026 Track Status'!C5)), IF(OR('2026 Track Status'!E5="responded", '2026 Track Status'!E5="verified", '2026 Track Status'!E5="completed"), "COMPLETED", "NOT ADDRESSED"), IF(OR('2026 Track Status'!E5="responded", '2026 Track Status'!E5="verified", '2026 Track Status'!E5="completed"), "COMPLETED", "NOT REQUIRED")) -> NOT REQUIRED | D5: =_xlfn.TEXTJOIN(",", 1, IFERROR(_xlfn._xlws.FILTER('2026 Track Answers & scores'!$D$2:$D$205, ('2026 Track Answers & scores'!$C$2:$C$205=A5) * ('2026 Track Answers & scores'!$E$2:$E$205="Yes/No") * ('2026 Track Answers & scores'!$G$2:$G$205=1.5)), "-")) -> -
A6: ='2026 Track Status'!B6 -> S5 - Middletown Steel (Demo) | B6: =IF(ISNUMBER(SEARCH("material", '2026 Track Status'!C6)),"Yes", "No") -> No | C6: =IF(ISNUMBER(SEARCH("material", '2026 Track Status'!C6)), IF(OR('2026 Track Status'!E6="responded", '2026 Track Status'!E6="verified", '2026 Track Status'!E6="completed"), "COMPLETED", "NOT ADDRESSED"), IF(OR('2026 Track Status'!E6="responded", '2026 Track Status'!E6="verified", '2026 Track Status'!E6="completed"), "COMPLETED", "NOT REQUIRED")) -> NOT REQUIRED | D6: =_xlfn.TEXTJOIN(",", 1, IFERROR(_xlfn._xlws.FILTER('2026 Track Answers & scores'!$D$2:$D$205, ('2026 Track Answers & scores'!$C$2:$C$205=A6) * ('2026 Track Answers & scores'!$E$2:$E$205="Yes/No") * ('2026 Track Answers & scores'!$G$2:$G$205=1.5)), "-")) -> -
A7: ='2026 Track Status'!B7 -> S6 - Villafort Inc. (Demo) | B7: =IF(ISNUMBER(SEARCH("material", '2026 Track Status'!C7)),"Yes", "No") -> No | C7: =IF(ISNUMBER(SEARCH("material", '2026 Track Status'!C7)), IF(OR('2026 Track Status'!E7="responded", '2026 Track Status'!E7="verified", '2026 Track Status'!E7="completed"), "COMPLETED", "NOT ADDRESSED"), IF(OR('2026 Track Status'!E7="responded", '2026 Track Status'!E7="verified", '2026 Track Status'!E7="completed"), "COMPLETED", "NOT REQUIRED")) -> NOT REQUIRED | D7: =_xlfn.TEXTJOIN(",", 1, IFERROR(_xlfn._xlws.FILTER('2026 Track Answers & scores'!$D$2:$D$205, ('2026 Track Answers & scores'!$C$2:$C$205=A7) * ('2026 Track Answers & scores'!$E$2:$E$205="Yes/No") * ('2026 Track Answers & scores'!$G$2:$G$205=1.5)), "-")) -> -
A8: ='2026 Track Status'!B8 -> S7 - SteelWorks (Demo) | B8: =IF(ISNUMBER(SEARCH("material", '2026 Track Status'!C8)),"Yes", "No") -> No | C8: =IF(ISNUMBER(SEARCH("material", '2026 Track Status'!C8)), IF(OR('2026 Track Status'!E8="responded", '2026 Track Status'!E8="verified", '2026 Track Status'!E8="completed"), "COMPLETED", "NOT ADDRESSED"), IF(OR('2026 Track Status'!E8="responded", '2026 Track Status'!E8="verified", '2026 Track Status'!E8="completed"), "COMPLETED", "NOT REQUIRED")) -> NOT REQUIRED | D8: =_xlfn.TEXTJOIN(",", 1, IFERROR(_xlfn._xlws.FILTER('2026 Track Answers & scores'!$D$2:$D$205, ('2026 Track Answers & scores'!$C$2:$C$205=A8) * ('2026 Track Answers & scores'!$E$2:$E$205="Yes/No") * ('2026 Track Answers & scores'!$G$2:$G$205=1.5)), "-")) -> -
A9: ='2026 Track Status'!B9 -> S8 - Joe Trucks co. (Demo) | B9: =IF(ISNUMBER(SEARCH("material", '2026 Track Status'!C9)),"Yes", "No") -> No | C9: =IF(ISNUMBER(SEARCH("material", '2026 Track Status'!C9)), IF(OR('2026 Track Status'!E9="responded", '2026 Track Status'!E9="verified", '2026 Track Status'!E9="completed"), "COMPLETED", "NOT ADDRESSED"), IF(OR('2026 Track Status'!E9="responded", '2026 Track Status'!E9="verified", '2026 Track Status'!E9="completed"), "COMPLETED", "NOT REQUIRED")) -> NOT REQUIRED | D9: =_xlfn.TEXTJOIN(",", 1, IFERROR(_xlfn._xlws.FILTER('2026 Track Answers & scores'!$D$2:$D$205, ('2026 Track Answers & scores'!$C$2:$C$205=A9) * ('2026 Track Answers & scores'!$E$2:$E$205="Yes/No") * ('2026 Track Answers & scores'!$G$2:$G$205=1.5)), "-")) -> -
A10: ='2026 Track Status'!B10 -> S9 - Ball Construction (Demo) | B10: =IF(ISNUMBER(SEARCH("material", '2026 Track Status'!C10)),"Yes", "No") -> No | C10: =IF(ISNUMBER(SEARCH("material", '2026 Track Status'!C10)), IF(OR('2026 Track Status'!E10="responded", '2026 Track Status'!E10="verified", '2026 Track Status'!E10="completed"), "COMPLETED", "NOT ADDRESSED"), IF(OR('2026 Track Status'!E10="responded", '2026 Track Status'!E10="verified", '2026 Track Status'!E10="completed"), "COMPLETED", "NOT REQUIRED")) -> NOT REQUIRED | D10: =_xlfn.TEXTJOIN(",", 1, IFERROR(_xlfn._xlws.FILTER('2026 Track Answers & scores'!$D$2:$D$205, ('2026 Track Answers & scores'!$C$2:$C$205=A10) * ('2026 Track Answers & scores'!$E$2:$E$205="Yes/No") * ('2026 Track Answers & scores'!$G$2:$G$205=1.5)), "-")) -> -

Sheet 2026 Track Status
A1: Supplier No. | B1: Supplier Name | C1: Tags | D1: 2026 Score | E1: 2026 Status | F1: 2026 Completed at | G1: 2026 Score Range
A2: 23456 | B2: S1 - Tamerin (Demo) | C2: material | D2: 58 | E2: completed | F2: 2026-10-05 | G2: 41-60
A3: 12 | B3: S2 - Erquin Asssociates (Demo) | E3: no-data
A4: None | B4: S3 - Smith & Hill (Demo) | E4: no-data
A5: None | B5: S4 - Hector Digging (Demo) | E5: no-data
A6: None | B6: S5 - Middletown Steel (Demo) | E6: no-data
A7: None | B7: S6 - Villafort Inc. (Demo) | E7: no-data
A8: None | B8: S7 - SteelWorks (Demo) | E8: no-data
A9: None | B9: S8 - Joe Trucks co. (Demo) | E9: no-data
A10: None | B10: S9 - Ball Construction (Demo) | E10: no-data

Sheet 2026 Track Answers & scores
A1: Created at | B1: SupplierID | C1: Profile name | D1: Measured | E1: Unit | F1: Question title | G1: Question RefNum
A2: 2026-10-05T20:08:25.993220Z | B2: 23456 | C2: S1 - Tamerin (Demo) | D2: 58 | E2: Points | F2: Sustainability Core
A3: 2026-10-05T20:08:25.993220Z | B3: 23456 | C3: S1 - Tamerin (Demo) | D3: [42] Wholesale Trade | E3: North American Industry Classification System (NAICS) | F3: North American Industry Classification (NAICS) | G3: 0.1
A4: 2026-10-05T20:08:25.993220Z | B4: 23456 | C4: S1 - Tamerin (Demo) | D4: 0 | E4: Points | F4: North American Industry Classification (NAICS) | G4: 0.1
A5: 2026-10-05T20:08:25.993220Z | B5: 23456 | C5: S1 - Tamerin (Demo) | D5: No | E5: Yes/No | F5: Reporting Organization's Annual Gross Revenue | G5: 0.2
A6: 2026-10-05T20:08:25.993220Z | B6: 23456 | C6: S1 - Tamerin (Demo) | D6: 2 | E6: Millions US Dollars ($M) | F6: Reporting Organization's Annual Gross Revenue | G6: 0.2
A7: 2026-10-05T20:08:25.993220Z | B7: 23456 | C7: S1 - Tamerin (Demo) | D7: 0 | E7: Person | F7: Reporting organization's Full-time Employee Count | G7: 0.3
A8: 2026-10-05T20:08:25.993220Z | B8: 23456 | C8: S1 - Tamerin (Demo) | D8: 0 | E8: Points | F8: Reporting organization's Full-time Employee Count | G8: 0.3
A9: 2026-10-05T20:08:25.993220Z | B9: 23456 | C9: S1 - Tamerin (Demo) | D9: 1 | E9: Points | F9: Has your company established a documented sustainability strategy with defined performance targets? | G9: 1.1
A10: 2026-10-05T20:08:25.993220Z | B10: 23456 | C10: S1 - Tamerin (Demo) | D10: Yes | E10: Yes/No | F10: Has your company established a documented sustainability strategy with defined performance targets? | G10: 1.1
A11: 2026-10-05T20:08:25.993220Z | B11: 23456 | C11: S1 - Tamerin (Demo) | D11: 0 | E11: Points | F11: Does the strategy articulate a long-term vision for sustainable growth and operational impact? | G11: 1.1a
A12: 2026-10-05T20:08:25.993220Z | B12: 23456 | C12: S1 - Tamerin (Demo) | D12: Yes | E12: Yes/No | F12: Does the strategy articulate a long-term vision for sustainable growth and operational impact? | G12: 1.1a
A13: 2026-10-05T20:08:25.993220Z | B13: 23456 | C13: S1 - Tamerin (Demo) | D13: Yes | E13: Yes/No | F13: Does the strategy set clear, measurable, and time-bound objectives that track progress effectively? | G13: 1.1b
A14: 2026-10-05T20:08:25.993220Z | B14: 23456 | C14: S1 - Tamerin (Demo) | D14: 0 | E14: Points | F14: Does the strategy set clear, measurable, and time-bound objectives that track progress effectively? | G14: 1.1b
A15: 2026-10-05T20:08:25.993220Z | B15: 23456 | C15: S1 - Tamerin (Demo) | D15: Yes | E15: Yes/No | F15: Does the strategy allocate sufficient financial, human, and technological resources to support implementation? | G15: 1.1c
A16: 2026-10-05T20:08:25.993220Z | B16: 23456 | C16: S1 - Tamerin (Demo) | D16: 0 | E16: Points | F16: Does the strategy allocate sufficient financial, human, and technological resources to support implementation? | G16: 1.1c
A17: 2026-10-05T20:08:25.993220Z | B17: 23456 | C17: S1 - Tamerin (Demo) | D17: Yes | E17: Yes/No | F17: Does the strategy address material issues for the business? | G17: 1.1d
A18: 2026-10-05T20:08:25.993220Z | B18: 23456 | C18: S1 - Tamerin (Demo) | D18: 0 | E18: Points | F18: Does the strategy address material issues for the business? | G18: 1.1d
A19: 2026-10-05T20:08:25.993220Z | B19: 23456 | C19: S1 - Tamerin (Demo) | D19: 2 | E19: Points | F19: Has your company assigned formal responsibility for directing and overseeing sustainability performance to top/executive management? | G19: 1.2
A20: 2026-10-05T20:08:25.993220Z | B20: 23456 | C20: S1 - Tamerin (Demo) | D20: Yes | E20: Yes/No | F20: Has your company assigned formal responsibility for directing and overseeing sustainability performance to top/executive management? | G20: 1.2
A21: 2026-10-05T20:08:25.993220Z | B21: 23456 | C21: S1 - Tamerin (Demo) | D21: 1 | E21: Points | F21: Has your company designated a point person(s) responsible for implementing strategy and meeting targets? | G21: 1.3
A22: 2026-10-05T20:08:25.993220Z | B22: 23456 | C22: S1 - Tamerin (Demo) | D22: Yes | E22: Yes/No | F22: Has your company designated a point person(s) responsible for implementing strategy and meeting targets? | G22: 1.3
A23: 2026-10-05T20:08:25.993220Z | B23: 23456 | C23: S1 - Tamerin (Demo) | D23: Yes | E23: Yes/No | F23: Does your company report internally, including to top management, on strategy: key sustainability issues (revealed by materiality analysis), resiliency, risk, business continuity, progress toward goals, and plans/needs to address gaps towards your targets? | G23: 1.4
A24: 2026-10-05T20:08:25.993220Z | B24: 23456 | C24: S1 - Tamerin (Demo) | D24: 1 | E24: Points | F24: Does your company report internally, including to top management, on strategy: key sustainability issues (revealed by materiality analysis), resiliency, risk, business continuity, progress toward goals, and plans/needs to address gaps towards your targets? | G24: 1.4
A25: 2026-10-05T20:08:25.993220Z | B25: 23456 | C25: S1 - Tamerin (Demo) | D25: Yes | E25: Yes/No | F25: Does your company report externally on strategy: program elements, key environmental, social and governance issues, goals, challenges, resiliency, and continual improvement efforts in accordance with a reputable reporting standard (e.g. GRI, SASB, TCFD)? | G25: 1.5
A26: 2026-10-05T20:08:25.993220Z | B26: 23456 | C26: S1 - Tamerin (Demo) | D26: 1 | E26: Points | F26: Does your company report externally on strategy: program elements, key environmental, social and governance issues, goals, challenges, resiliency, and continual improvement efforts in accordance with a reputable reporting standard (e.g. GRI, SASB, TCFD)? | G26: 1.5
A27: 2026-10-05T20:08:25.993220Z | B27: 23456 | C27: S1 - Tamerin (Demo) | D27: 1 | E27: Points | F27: Does your company have environmental, social and governance strategy, reports, targets, and Key Performance Indicators (KPIs) periodically (every 5 years or sooner) validated by an independent third party? | G27: 1.6
A28: 2026-10-05T20:08:25.993220Z | B28: 23456 | C28: S1 - Tamerin (Demo) | D28: Yes | E28: Yes/No | F28: Does your company have environmental, social and governance strategy, reports, targets, and Key Performance Indicators (KPIs) periodically (every 5 years or sooner) validated by an independent third party? | G28: 1.6
A29: 2026-10-05T20:08:25.993220Z | B29: 23456 | C29: S1 - Tamerin (Demo) | D29: No | E29: Yes/No | F29: Has your company conducted a materiality assessment to identify and prioritize material sustainability impacts, issues and opportunities? | G29: 2.1
A30: 2026-10-05T20:08:25.993220Z | B30: 23456 | C30: S1 - Tamerin (Demo) | D30: 0 | E30: Points | F30: Has your company conducted a materiality assessment to identify and prioritize material sustainability impacts, issues and opportunities? | G30: 2.1
A31: 2026-10-05T20:08:25.993220Z | B31: 23456 | C31: S1 - Tamerin (Demo) | D31: Yes | E31: Yes/No | F31: Does your company have an Employee Code of Conduct in place? | G31: 3.1
A32: 2026-10-05T20:08:25.993220Z | B32: 23456 | C32: S1 - Tamerin (Demo) | D32: 1 | E32: Points | F32: Does your company have an Employee Code of Conduct in place? | G32: 3.1
A33: 2026-10-05T20:08:25.993220Z | B33: 23456 | C33: S1 - Tamerin (Demo) | D33: Yes | E33: Yes/No | F33: Does your company's Employee Code of Conduct contain sections pertinent to ... Child Labor? | G33: 3.1b
A34: 2026-10-05T20:08:25.993220Z | B34: 23456 | C34: S1 - Tamerin (Demo) | D34: 0 | E34: Points | F34: Does your company's Employee Code of Conduct contain sections pertinent to ... Child Labor? | G34: 3.1b
A35: 2026-10-05T20:08:25.993220Z | B35: 23456 | C35: S1 - Tamerin (Demo) | D35: 0 | E35: Points | F35: Does your company's Employee Code of Conduct contain sections pertinent to ... Forced Labor? | G35: 3.1c
A36: 2026-10-05T20:08:25.993220Z | B36: 23456 | C36: S1 - Tamerin (Demo) | D36: Yes | E36: Yes/No | F36: Does your company's Employee Code of Conduct contain sections pertinent to ... Forced Labor? | G36: 3.1c
A37: 2026-10-05T20:08:25.993220Z | B37: 23456 | C37: S1 - Tamerin (Demo) | D37: Yes | E37: Yes/No | F37: Does your company's Employee Code of Conduct contain sections pertinent to ... Corruption and bribery? | G37: 3.1d
A38: 2026-10-05T20:08:25.993220Z | B38: 23456 | C38: S1 - Tamerin (Demo) | D38: 0 | E38: Points | F38: Does your company's Employee Code of Conduct contain sections pertinent to ... Corruption and bribery? | G38: 3.1d
A39: 2026-10-05T20:08:25.993220Z | B39: 23456 | C39: S1 - Tamerin (Demo) | D39: 0 | E39: Points | F39: Does your company's Employee Code of Conduct contain sections pertinent to ... Discrimination and harassment? | G39: 3.1e
A40: 2026-10-05T20:08:25.993220Z | B40: 23456 | C40: S1 - Tamerin (Demo) | D40: Yes | E40: Yes/No | F40: Does your company's Employee Code of Conduct contain sections pertinent to ... Discrimination and harassment? | G40: 3.1e
...
